BEGIN:VCALENDAR
VERSION:2.0
PRODID:-//Focales
CALSCALE:GREGORIAN
METHOD:PUBLISH
X-WR-CALNAME:Focales
X-ORIGINAL-URL:https://focales.org/rencontre-des-poles-deducation-aux-images-2026/
X-WR-CALDESC:RENCONTRE DES PÔLES D&rsquo;EDUCATION AUX IMAGES 2026
BEGIN:VEVENT
DTSTART:20260316T000000
DTEND:20260317T000000
SUMMARY:RENCONTRE DES PÔLES D&rsquo;EDUCATION AUX IMAGES 2026
DESCRIPTION:
LOCATION:Cinéma L’Omnia & Halle aux toiles, Rouen
END:VEVENT
END:VCALENDAR
