BEGIN:VCALENDAR
VERSION:2.0
PRODID:-//Focales
CALSCALE:GREGORIAN
METHOD:PUBLISH
X-WR-CALNAME:Focales
X-ORIGINAL-URL:https://focales.org/mexique-cheran-keri/
X-WR-CALDESC:MEXIQUE, CHERAN K&rsquo;ERI : 4 ANS D&rsquo;AUTO-GOUVERNEMENT, EN PRESENCE DES REALISATEURS
BEGIN:VEVENT
DTSTART:20150907T203000
DTEND:20150907T223000
SUMMARY:MEXIQUE, CHERAN K&rsquo;ERI : 4 ANS D&rsquo;AUTO-GOUVERNEMENT, EN PRESENCE DES REALISATEURS
DESCRIPTION:
LOCATION:Café les Augustes - Clermont-Ferrand
END:VEVENT
END:VCALENDAR
