BEGIN:VCALENDAR
VERSION:2.0
PRODID:-//Focales
CALSCALE:GREGORIAN
METHOD:PUBLISH
X-WR-CALNAME:Focales
X-ORIGINAL-URL:https://focales.org/concours-1-mn-videoformes/
X-WR-CALDESC:CONCOURS 1 MIN VIDEOFORMES
BEGIN:VEVENT
DTSTART:20160502T000000
DTEND:20160502T000000
SUMMARY:CONCOURS 1 MIN VIDEOFORMES
DESCRIPTION:
LOCATION:Videoformes - Le Prisme - Clermont-Ferrand
END:VEVENT
END:VCALENDAR
