BEGIN:VCALENDAR
VERSION:2.0
PRODID:-//Focales
CALSCALE:GREGORIAN
METHOD:PUBLISH
X-WR-CALNAME:Focales
X-ORIGINAL-URL:https://focales.org/de-lor-sous-la-cendre-en-presence/
X-WR-CALDESC:DE L&rsquo;OR SOUS LA CENDRE EN PRÉSENCE
BEGIN:VEVENT
DTSTART:20260502T180000
DTEND:20260502T203000
SUMMARY:DE L&rsquo;OR SOUS LA CENDRE EN PRÉSENCE
DESCRIPTION:
LOCATION:2 Bis Faubourg de la Bade, 63200 RIOM
END:VEVENT
END:VCALENDAR
