BEGIN:VCALENDAR
VERSION:2.0
PRODID:-//Focales
CALSCALE:GREGORIAN
METHOD:PUBLISH
X-WR-CALNAME:Focales
X-ORIGINAL-URL:https://focales.org/mexique-cheran-keri-2/
X-WR-CALDESC:MEXIQUE, CHERAN K&rsquo;ERI : 4 ANS D&rsquo;AUTO-GOUVERNEMENT, EN PRESENCE DES REALISATEURS
BEGIN:VEVENT
DTSTART:20150904T210000
DTEND:20150904T230000
SUMMARY:MEXIQUE, CHERAN K&rsquo;ERI : 4 ANS D&rsquo;AUTO-GOUVERNEMENT, EN PRESENCE DES REALISATEURS
DESCRIPTION:
LOCATION:La grange à palabres - Tailhac
END:VEVENT
END:VCALENDAR
