BEGIN:VCALENDAR
VERSION:2.0
PRODID:-//Focales
CALSCALE:GREGORIAN
METHOD:PUBLISH
X-WR-CALNAME:Focales
X-ORIGINAL-URL:https://focales.org/jury-junior-festival-jean-carmet/
X-WR-CALDESC:JURY JUNIOR FESTIVAL JEAN CARMET
BEGIN:VEVENT
DTSTART:20150926T000000
DTEND:20150926T000000
SUMMARY:JURY JUNIOR FESTIVAL JEAN CARMET
DESCRIPTION:
LOCATION:Cap cinéma - Moulins
END:VEVENT
END:VCALENDAR
