BEGIN:VCALENDAR
VERSION:2.0
PRODID:-//Focales
CALSCALE:GREGORIAN
METHOD:PUBLISH
X-WR-CALNAME:Focales
X-ORIGINAL-URL:https://focales.org/festival-mini-pixels/
X-WR-CALDESC:FESTIVAL MINI PIXELS
BEGIN:VEVENT
DTSTART:20151007T090000
DTEND:20151011T190000
SUMMARY:FESTIVAL MINI PIXELS
DESCRIPTION:
LOCATION:Cinéma le Rio - Clermont-Ferrand
END:VEVENT
END:VCALENDAR
