BEGIN:VCALENDAR
VERSION:2.0
PRODID:-//Focales
CALSCALE:GREGORIAN
METHOD:PUBLISH
X-WR-CALNAME:Focales
X-ORIGINAL-URL:https://focales.org/peace-to-us-in-our-dreams-avec-rencontre-avec-le-distributeur/
X-WR-CALDESC:PEACE TO US IN OUR DREAMS AVEC SKYPE AVEC LE DISTRIBUTEUR
BEGIN:VEVENT
DTSTART:20150918T200000
DTEND:20150918T220000
SUMMARY:PEACE TO US IN OUR DREAMS AVEC SKYPE AVEC LE DISTRIBUTEUR
DESCRIPTION:
LOCATION:Cinéma le Rio - Clermont-Ferrand
END:VEVENT
END:VCALENDAR
