BEGIN:VCALENDAR
VERSION:2.0
PRODID:-//Focales
CALSCALE:GREGORIAN
METHOD:PUBLISH
X-WR-CALNAME:Focales
X-ORIGINAL-URL:https://focales.org/nicephore/
X-WR-CALDESC:NICEPHORE
BEGIN:VEVENT
DTSTART:20151002T183000
DTEND:20151024T000000
SUMMARY:NICEPHORE
DESCRIPTION:
LOCATION:
END:VEVENT
END:VCALENDAR
