BEGIN:VCALENDAR
VERSION:2.0
PRODID:-//Focales
CALSCALE:GREGORIAN
METHOD:PUBLISH
X-WR-CALNAME:Focales
X-ORIGINAL-URL:https://focales.org/ady-gasy-en-presence-de-la-productrice/
X-WR-CALDESC:ADY GASY EN PRESENCE DE LA PRODUCTRICE
BEGIN:VEVENT
DTSTART:20150924T203000
DTEND:20150924T223000
SUMMARY:ADY GASY EN PRESENCE DE LA PRODUCTRICE
DESCRIPTION:
LOCATION:Cinéma le Palace - Montluçon
END:VEVENT
END:VCALENDAR
