BEGIN:VCALENDAR
VERSION:2.0
PRODID:-//Focales
CALSCALE:GREGORIAN
METHOD:PUBLISH
X-WR-CALNAME:Focales
X-ORIGINAL-URL:https://focales.org/meme-pas-peur-en-presence-de-la-realisatrice/
X-WR-CALDESC:MEME PAS PEUR EN PRESENCE DE LA REALISATRICE
BEGIN:VEVENT
DTSTART:20150925T200000
DTEND:20150925T220000
SUMMARY:MEME PAS PEUR EN PRESENCE DE LA REALISATRICE
DESCRIPTION:
LOCATION:Cinéma le Rio - Clermont-Ferrand
END:VEVENT
END:VCALENDAR
